BEGIN:VCALENDAR
VERSION:2.0
PRODID:-//Ecoori - ECPv6.15.11//NONSGML v1.0//EN
CALSCALE:GREGORIAN
METHOD:PUBLISH
X-WR-CALNAME:Ecoori
X-ORIGINAL-URL:https://ecoori.com
X-WR-CALDESC:Events for Ecoori
REFRESH-INTERVAL;VALUE=DURATION:PT1H
X-Robots-Tag:noindex
X-PUBLISHED-TTL:PT1H
BEGIN:VTIMEZONE
TZID:Asia/Singapore
BEGIN:STANDARD
TZOFFSETFROM:+0800
TZOFFSETTO:+0800
TZNAME:+08
DTSTART:20200101T000000
END:STANDARD
END:VTIMEZONE
BEGIN:VTIMEZONE
TZID:Asia/Jakarta
BEGIN:STANDARD
TZOFFSETFROM:+0700
TZOFFSETTO:+0700
TZNAME:WIB
DTSTART:20210101T000000
END:STANDARD
END:VTIMEZONE
BEGIN:VEVENT
DTSTART;VALUE=DATE:20250514
DTEND;VALUE=DATE:20250517
DTSTAMP:20260424T070931
CREATED:20250512T053944Z
LAST-MODIFIED:20250512T053944Z
UID:9947-1747180800-1747439999@ecoori.com
SUMMARY:Meet ECOORI at ICI 2025
DESCRIPTION:Discover the Future of Sustainable Beauty Innovation!\n\nJoin us at Indonesia Cosmetic Ingredients (ICI) 2025\, Jakarta\, from May 14th to 16th\, and explore the next generation of sustainable cosmetic innovation! \n📍 Find us at Maha Asia stand F3 (19-24) in Hall D\, JIExpo Kemayoran
URL:https://ecoori.com/event/meet-ecoori-at-ici-2025/
LOCATION:Hall D\, JIExpo Kemayoran\, Jl. Rajawali Selatan Raya No.6\, Pademangan Tim.\, Kec. Pademangan\, Jkt Utara\, Daerah Khusus Ibukota Jakarta\, 14410\, Indonesia
END:VEVENT
BEGIN:VEVENT
DTSTART;TZID=Asia/Singapore:20240523T080000
DTEND;TZID=Asia/Singapore:20240523T160000
DTSTAMP:20260424T070931
CREATED:20240521T062657Z
LAST-MODIFIED:20240521T064520Z
UID:9771-1716451200-1716480000@ecoori.com
SUMMARY:ECOORI’s Seminar in Thailand
DESCRIPTION:We are thrilled to announce that Ecoori will be participating in the ‘FROM NOTHING COMES SOMETHING’ seminar in Thailand\, organized by Maha! \n\nDate: May 23\, 2024\nLocation: Eastin Grand Hotel Sathorn Bangkok\n\nWe’ll be showcasing our latest innovations in sustainable skincare solutions. \nFor more info\, please contact us: sales@ecoori.com
URL:https://ecoori.com/event/ecooris-seminar-in-thailand/
LOCATION:Eastin Grand Hotel Sathorn Bangkok\, 33/1 S Sathon Rd\, Yannawa Khet Sathon\, Bangkok\, 10120
ATTACH;FMTTYPE=image/jpeg:https://ecoori.com/wp-content/uploads/2024/05/Black-And-Red-Retro-Photographic-Film-Photo-Collage-Instagram-Post.jpg
END:VEVENT
BEGIN:VEVENT
DTSTART;TZID=Asia/Singapore:20240320T090000
DTEND;TZID=Asia/Singapore:20240322T160000
DTSTAMP:20260424T070931
CREATED:20240206T061331Z
LAST-MODIFIED:20240206T061550Z
UID:9616-1710925200-1711123200@ecoori.com
SUMMARY:PCHi 2024 (Personal Care and Homecare Ingredients)
DESCRIPTION:PCHi 2024 Participation Announcement \nWe are excited to announce our participation in PCHi (Personal Care and Homecare Ingredients) 2024\, taking place from March 20th to 22nd at the Shanghai World Expo Exhibition & Convention Center (SWEECC)\, China. You can find us at booth 1N41. \nAt this exhibition\, we will showcase a range of offerings\, from safe alternatives to exosomes to our unique blending concept\, all designed to meet your business needs while prioritizing sustainability. \n \nAbout PCHi \nPCHi alternates annually between Shanghai and Guangzhou\, China’s most affluent business areas and key manufacturing hubs for the personal care\, cosmetics\, toiletries\, and home care industry. This is why PCHi continues to attract business professionals from all corners of the global community\, including formulators\, manufacturers\, R&D technologists\, and senior management. \nWe look forward to meeting you at our booth!!
URL:https://ecoori.com/event/pchi-2024-personal-care-and-homecare-ingredients/
LOCATION:Shanghai World Expo Exhibition & Convention Center\, 1099 Guozhan Rd\, 周家渡 Pudong\,\, Shanghai\, 200126\, China
END:VEVENT
BEGIN:VEVENT
DTSTART;TZID=Asia/Singapore:20230915T080000
DTEND;TZID=Asia/Singapore:20230915T170000
DTSTAMP:20260424T070931
CREATED:20230915T065721Z
LAST-MODIFIED:20230915T070310Z
UID:8532-1694764800-1694797200@ecoori.com
SUMMARY:ECOORI's Seminar in Vietnam
DESCRIPTION:Greetings! ECOORI is thrilled to announce upcoming seminars in Vietnam dedicated to fostering meaningful connections with our customers. These events will serve as a platform for sharing cutting-edge solutions and insights on the latest trends in Korean Skincare. Our esteemed experts from ECOORI and Maha will be actively involved\, offering not only essential concepts but also real-world examples to deepen your grasp of these trends. The seminar will encourage dynamic discussions and provide ample networking opportunities\, allowing participants to exchange valuable knowledge.
URL:https://ecoori.com/event/ecooris-seminar-in-vietnam/
LOCATION:Zhejiang Province
ATTACH;FMTTYPE=image/png:https://ecoori.com/wp-content/uploads/2023/09/Copy-of-Exhibiton-info-for-social-media-4.png
END:VEVENT
BEGIN:VEVENT
DTSTART;TZID=Asia/Singapore:20230607T090000
DTEND;TZID=Asia/Singapore:20230608T170000
DTSTAMP:20260424T070931
CREATED:20230512T094018Z
LAST-MODIFIED:20230512T094227Z
UID:6332-1686128400-1686243600@ecoori.com
SUMMARY:Indonesia Cosmetic Ingredients (ICI) 2023
DESCRIPTION:Keep an eye out for our exhibition booth\, which will be located at booth number 35 in the upcoming Indonesia Cosmetic Ingredients (ICI) exhibition 2023. \nWe will be showcasing our products in collaboration with our distribution partner\, Mahachem. \nAbout Indonesian Cosmetic Ingredients Surabaya 2023\nIndonesian Cosmetic Ingredients Surabaya 2023 will be held for the 4th time. The exhibitors are not only limited to suppliers of raw material\, packaging and machinery\, but will also involve other parties related to cosmetics industry\, such as testing labs\, printing and other supporting sectors.There will be 14 – 18 seminar sessions to share the latest development on cosmetics trends and ingredients for skin care\, hair care\, and other latest topics to further the knowledge on cosmetics development.
URL:https://ecoori.com/event/indonesia-cosmetic-ingredients-ici-2023/
LOCATION:Grand City Lifestyle Mall & Convex Convention Hall\, l. Gubeng Pojok No.1\, Ketabang\, Kec. Surabaya\, 60272
ORGANIZER;CN="Indonesia Cosmetic Ingredients":MAILTO:perkosmi_dkijaya@yahoo.com, secre@perkosmi.com
END:VEVENT
BEGIN:VEVENT
DTSTART;VALUE=DATE:20230328
DTEND;VALUE=DATE:20230331
DTSTAMP:20260424T070931
CREATED:20230216T064016Z
LAST-MODIFIED:20230216T064140Z
UID:6076-1679961600-1680220799@ecoori.com
SUMMARY:in-Cosmetics Global 2023
DESCRIPTION:Look out for our booth\, AP41\, in the upcoming in-Cosmetics Global exhibition in Barcelona\, Spain. \nAbout in-cosmetics global\nin-cosmetics Global is the leading cosmetic trade show for personal care ingredients.\nCelebrating excellence in the field of ingredient innovation\, in-cosmetics Global also offers high-quality education on the latest science and trends. Plus\, with targeted networking opportunities for the international personal care ingredients community\, you can uncover the tools to engage in new business and evolve your brand.
URL:https://ecoori.com/event/in-cosmetics-global-2023/
LOCATION:Fira Barcelona Gran Via\, Spain\, Av. Joan Carles I\, 64\, 08908 L'Hospitalet de Llobregat\, Barcelona\,\, Spain
END:VEVENT
BEGIN:VEVENT
DTSTART;TZID=Asia/Jakarta:20221025T090000
DTEND;TZID=Asia/Jakarta:20221027T170000
DTSTAMP:20260424T070931
CREATED:20221020T031634Z
LAST-MODIFIED:20221020T031634Z
UID:5566-1666688400-1666890000@ecoori.com
SUMMARY:Indonesia Cosmetic Ingredients (ICI) 2022
DESCRIPTION:Look out for our booth\, 144 – 145\, in the upcoming Indonesia Cosmetic Ingredients (ICI) exhibition together with our distributing partner\, Mahachem. \nAbout ICI\nThe event will house approximately 374 booths with participants from Indonesia and worldwide. There will be representatives from the cosmetics business\, including raw materials\, fragrance\, machinery\, lab equipment\, packaging\, cosmetic toll producers\, testing institutions\, etc. Stay tuned to 26 seminars lined up to discuss the latest cosmetic trends\, advancements and breakthroughs.
URL:https://ecoori.com/event/indonesia-cosmetic-ingredients-ici-2022/
LOCATION:RW.10\, East Pademangan\, Pademangan\, Central Jakarta City\, Jakarta 14410\, Indonesia
ORGANIZER;CN="Indonesia Cosmetic Ingredients":MAILTO:perkosmi_dkijaya@yahoo.com, secre@perkosmi.com
END:VEVENT
BEGIN:VEVENT
DTSTART;VALUE=DATE:20220713
DTEND;VALUE=DATE:20220716
DTSTAMP:20260424T070931
CREATED:20220712T043305Z
LAST-MODIFIED:20220712T045911Z
UID:4788-1657670400-1657929599@ecoori.com
SUMMARY:InCosmetics Korea 2022
DESCRIPTION:It is the time of the year! We will be participating in the upcoming in-cosmetics Korea with our distributing partner\, Mahachem. Look out for our booth at Hall C\, Stand 41. We are excited to meet you! \n  \nAbout in-cosmetics\nIn Korea and beyond\, in-cosmetics provide the platform for all areas of the cosmetics industry to connect\, virtually and in-person. Share insights on Korean beauty trends\, be inspired and spark potential collaborations. \nCelebrating excellence in the field of ingredient innovation\, in-cosmetics Korea also offers high-quality education on the latest science and trends. Plus\, with targeted networking opportunities for the personal care ingredients community\, you can uncover the tools to engage in new business and evolve your brand.
URL:https://ecoori.com/event/incosmetics-korea-2022/
LOCATION:Hall C\, Coex\, Seoul\, South Korea
ATTACH;FMTTYPE=image/png:https://ecoori.com/wp-content/uploads/2022/07/Ecoori-incosmetics-korea-2022-linkedin-banner.png
END:VEVENT
BEGIN:VEVENT
DTSTART;VALUE=DATE:20210910
DTEND;VALUE=DATE:20210914
DTSTAMP:20260424T070931
CREATED:20210906T052115Z
LAST-MODIFIED:20210906T052115Z
UID:2962-1631232000-1631577599@ecoori.com
SUMMARY:We Will be Participating in the 18th CAEXPO!
DESCRIPTION:Ecoori will be participating in the 18th CAEXPO (China-Asean Expo)! In view of the current Covid situation\, we will only be involved in the online exhibition. \nDate of Event: 10 – 13 September 2021\nVisit our online booth: https://www.caexpo.org/dmexhibition/details/exhibitor?id=10017012021072300016270076963417844670228966659&exbId=10015032021050600016202702292188644783321977102&locale=en-us \n \n  \nAbout CAEXPO\nCAEXPO (China-ASEAN Expo) is an international economic and trade event co-sponsored by the economic and trade authorities of the governments of China and the 10 ASEAN countries. It has been successfully held for 17 sessions and has promoted and witnessed the continuous enrichment of partnerships and the rapid improvement of the level of economic and trade cooperation. \n\nThe China-ASEAN Expo is a high-end platform that gathers consensus and connects development strategies.\nCAEXPO is an effective platform to serve the construction of China-ASEAN Free Trade Area and implement trade and investment facilitation.\nThe China-ASEAN Expo is an important traction to promote multi-field cooperation and deepen all-round and in-depth exchanges.\nCAEXPO is an important link for China and ASEAN to strengthen cooperation with non-regional economies and integrate into the global value chain.\n\n  \nOnline Booth Preview\n \n  \nOther Events and Articles\nClick here to view our ongoing or past events and blog articles!
URL:https://ecoori.com/event/ecoori-18th-caexpo-event/
LOCATION:Zhejiang Province
ORGANIZER;CN="CAEXPO":MAILTO:service10@caexpo.org
END:VEVENT
BEGIN:VEVENT
DTSTART;VALUE=DATE:20210714
DTEND;VALUE=DATE:20210717
DTSTAMP:20260424T070931
CREATED:20210820T084422Z
LAST-MODIFIED:20210906T031630Z
UID:2378-1626220800-1626479999@ecoori.com
SUMMARY:InCosmetics Korea 2021
DESCRIPTION:We are proud to be able to participate in this year’s in-cosmetics Korea with our E-commerce partner (Chem On) despite the current covid situation. \n  \nAbout in-cosmetics\nin-cosmetics Korea is a platform for some of the most exciting ingredient launches in Korea. The exhibition brings together personal care ingredients suppliers (exhibitors) with finished product manufacturers (visitors)\, each looking to network\, learn about future trends\, and discover new products. \nin-cosmetics Korea continues to attract visitors from all over the globe\, each looking to find new ingredients and innovations from the international suppliers that don’t appear at other shows.
URL:https://ecoori.com/event/incosmetics-korea/
LOCATION:Hall C\, Coex\, Seoul\, South Korea
END:VEVENT
END:VCALENDAR